BEGIN:VCALENDAR
VERSION:2.0
PRODID:-//The Center for Music Therapy in End of Life Care - ECPv6.15.20//NONSGML v1.0//EN
CALSCALE:GREGORIAN
METHOD:PUBLISH
X-WR-CALNAME:The Center for Music Therapy in End of Life Care
X-ORIGINAL-URL:http://www.hospicemusictherapy.org
X-WR-CALDESC:Events for The Center for Music Therapy in End of Life Care
REFRESH-INTERVAL;VALUE=DURATION:PT1H
X-Robots-Tag:noindex
X-PUBLISHED-TTL:PT1H
BEGIN:VTIMEZONE
TZID:UTC
BEGIN:STANDARD
TZOFFSETFROM:+0000
TZOFFSETTO:+0000
TZNAME:UTC
DTSTART:20150101T000000
END:STANDARD
END:VTIMEZONE
BEGIN:VEVENT
DTSTART;VALUE=DATE:20160917
DTEND;VALUE=DATE:20160920
DTSTAMP:20260423T211023
CREATED:20151125T004640Z
LAST-MODIFIED:20160816T164255Z
UID:1194-1474070400-1474329599@www.hospicemusictherapy.org
SUMMARY:Counseling Skills Institute - Denver\, CO
DESCRIPTION:The Counseling Skills for Music Therapists course provides music therapists with basic and advanced verbal counseling theories and techniques and affords participants opportunities to practice skills in a clinical setting. Participants earn 30 CMTEs. There are no prerequisites for this institute. \nParticipants in this course will:\n~Learn the fundamental theories guiding verbal counseling techniques\n~Identify ways to utilize music therapy techniques to prompt\, support\, and validate verbal counseling processes\n~Learn advanced counseling skills to support more complex client needs\n~Practice counseling skills under supervision in role-play scenarios \nClick Here for Course Schedule\n$375.00Read more
URL:http://www.hospicemusictherapy.org/event/counseling-skills-institute-denver-co/
LOCATION:Doubletree by Hilton Denver – Westminster\, 8773 Yates Drive\, Westminster\, CO\, 80031\, United States
CATEGORIES:Counseling Skills Institute
END:VEVENT
BEGIN:VEVENT
DTSTART;VALUE=DATE:20160806
DTEND;VALUE=DATE:20160809
DTSTAMP:20260423T211023
CREATED:20151125T004137Z
LAST-MODIFIED:20151125T004137Z
UID:1192-1470441600-1470700799@www.hospicemusictherapy.org
SUMMARY:Counseling Skills Institute - Chicago\, IL
DESCRIPTION:The Counseling Skills for Music Therapists course provides music therapists with basic and advanced verbal counseling theories and techniques and affords participants opportunities to practice skills in a clinical setting. Participants earn 30 CMTEs. There are no prerequisites for this institute. \nParticipants in this course will:\n~Learn the fundamental theories guiding verbal counseling techniques\n~Identify ways to utilize music therapy techniques to prompt\, support\, and validate verbal counseling processes\n~Learn advanced counseling skills to support more complex client needs\n~Practice counseling skills under supervision in role-play scenarios \n$375.00Read more
URL:http://www.hospicemusictherapy.org/event/counseling-skills-institute-chicago-il/
LOCATION:Seasons Hospice – Chicago\, 606 Potter Rd #2\, Des Plaines\, IL\, 60016\, United States
CATEGORIES:Counseling Skills Institute
END:VEVENT
BEGIN:VEVENT
DTSTART;VALUE=DATE:20160625
DTEND;VALUE=DATE:20160629
DTSTAMP:20260423T211023
CREATED:20151201T020333Z
LAST-MODIFIED:20160505T202052Z
UID:1225-1466812800-1467158399@www.hospicemusictherapy.org
SUMMARY:Grief & Loss MT Institute – Utah
DESCRIPTION:The Grief and Loss Music Therapy course provides music therapists with in-depth training of the needs of grieving children and adults. The course offers advanced techniques and affords participants opportunities to practice skills in a clinical setting. The business aspects of creating or expanding MT programs in bereavement settings will be discussed and funding sources will be identified. Participants earn 50 Specialty CMTEs. \nParticipants in this course will:\n~Learn to identify the clinical needs of people who are faced with grief and loss\n~Create and evaluate music therapy interventions to meet those needs\n~Practice skills under supervision in role-play scenarios\n~Understand the funding opportunities available for bereavement work \nLODGING: A group rate has been established for our participants at $89/per. Please contact the hotel directly @ 801-292-8100 to reserve your room. *Be sure to mention you are will the “Center for Music Therapy“. \n$650.00Read more
URL:http://www.hospicemusictherapy.org/event/grief-loss-mt-institute-utah/
LOCATION:Country Inn and Suites\, 999 N 500 W\, Bountiful\, 84010
CATEGORIES:Grief & Loss Music Therapy Institute
END:VEVENT
BEGIN:VEVENT
DTSTART;VALUE=DATE:20160512
DTEND;VALUE=DATE:20160516
DTSTAMP:20260423T211023
CREATED:20151125T002458Z
LAST-MODIFIED:20160505T201713Z
UID:1185-1463011200-1463356799@www.hospicemusictherapy.org
SUMMARY:Grief & Loss MT Institute - Orange County\, CA
DESCRIPTION:The Grief and Loss Music Therapy course provides music therapists with in-depth training of the needs of grieving children and adults. The course offers advanced techniques and affords participants opportunities to practice skills in a clinical setting. The business aspects of creating or expanding MT programs in bereavement settings will be discussed and funding sources will be identified. Participants earn 50 Specialty CMTEs. \nParticipants in this course will:\n~Learn to identify the clinical needs of people who are faced with grief and loss\n~Create and evaluate music therapy interventions to meet those needs\n~Practice skills under supervision in role-play scenarios\n~Understand the funding opportunities available for bereavement work \n**FOR CALIFORNIA COURSE- This course will conclude with a clinical experience at Camp Kangaroo\, a children’s bereavement camp sponsored by the Seasons Hospice Foundation.** \nWe will begin on Thursday\, May 12th at the Best Western location at 8:30am (720 The City Drive\, S\, Orange\, CA). The course will conclude on Sunday\, May 15th at 4:00pm at the Lazy W Ranch (23852 Hot Springs Canyon Rd\, San Juan Capistrano\, CA). \nLODGING–There are rooms available at the host hotel. The rooms range from $109–$120 per night. You can call the hotel directly at (714) 740-2700 or check out their website to make your reservations: http://www.bwmeridian.com/# \n$650.00Read more
URL:http://www.hospicemusictherapy.org/event/grief-loss-mt-institute-orange-county-ca/
LOCATION:The Best Western Plus Meridian Inn & Suites\, 720 The City Drive S\, Orange\, CA\, 92868\, United States
CATEGORIES:Grief & Loss Music Therapy Institute
END:VEVENT
BEGIN:VEVENT
DTSTART;VALUE=DATE:20160227
DTEND;VALUE=DATE:20160302
DTSTAMP:20260423T211023
CREATED:20151124T193459Z
LAST-MODIFIED:20160201T020807Z
UID:1012-1456531200-1456876799@www.hospicemusictherapy.org
SUMMARY:Hospice & Palliative Care Music Therapy Institute - Broward County\, FL
DESCRIPTION:The Hospice and Palliative Care Music Therapy course provides music therapists with in-depth training of the needs of terminally ill patients and their families. The course offers advanced techniques and affords participants opportunities to practice skills in a clinical setting. In addition\, they will learn the business aspects of hospice music therapy and will be able to write business proposals to create new music therapy programs and expand existing programs. Participants earn 50 Specialty CMTEs.\nAccommodations:\nSheraton Ft. Lauderdale Airport & Cruise Port Hotel\n1825 Griffin Road\, Dania Beach\, FL 33004\n$149/night; includes free WiFi\, Breakfast and discounted parking\n**To obtain this rate\, participants should phone the hotel directly and speak with Anna\, 954-926-0727. Be sure to reference the Seasons Hospice rate.** \n$650.00Read more
URL:http://www.hospicemusictherapy.org/event/hospice-palliative-care-music-therapy-institute/
LOCATION:Seasons Hospice\, 1815 Griffin Road\, Dania Beach\, FL\, 33004\, United States
CATEGORIES:Hospice & Palliative Care Music Therapy Institute
END:VEVENT
END:VCALENDAR